BEGIN:VCALENDAR
VERSION:2.0
PRODID:-//Martim Cerere - ECPv6.15.18//NONSGML v1.0//EN
CALSCALE:GREGORIAN
METHOD:PUBLISH
X-WR-CALNAME:Martim Cerere
X-ORIGINAL-URL:https://martimcerere.edu.ec
X-WR-CALDESC:Eventos para Martim Cerere
REFRESH-INTERVAL;VALUE=DURATION:PT1H
X-Robots-Tag:noindex
X-PUBLISHED-TTL:PT1H
BEGIN:VTIMEZONE
TZID:Europe/Madrid
BEGIN:DAYLIGHT
TZOFFSETFROM:+0100
TZOFFSETTO:+0200
TZNAME:CEST
DTSTART:20250330T010000
END:DAYLIGHT
BEGIN:STANDARD
TZOFFSETFROM:+0200
TZOFFSETTO:+0100
TZNAME:CET
DTSTART:20251026T010000
END:STANDARD
BEGIN:DAYLIGHT
TZOFFSETFROM:+0100
TZOFFSETTO:+0200
TZNAME:CEST
DTSTART:20260329T010000
END:DAYLIGHT
BEGIN:STANDARD
TZOFFSETFROM:+0200
TZOFFSETTO:+0100
TZNAME:CET
DTSTART:20261025T010000
END:STANDARD
BEGIN:DAYLIGHT
TZOFFSETFROM:+0100
TZOFFSETTO:+0200
TZNAME:CEST
DTSTART:20270328T010000
END:DAYLIGHT
BEGIN:STANDARD
TZOFFSETFROM:+0200
TZOFFSETTO:+0100
TZNAME:CET
DTSTART:20271031T010000
END:STANDARD
END:VTIMEZONE
BEGIN:VEVENT
DTSTART;VALUE=DATE:20260428
DTEND;VALUE=DATE:20260501
DTSTAMP:20260423T135401
CREATED:20251228T212604Z
LAST-MODIFIED:20251228T212604Z
UID:2256-1777334400-1777593599@martimcerere.edu.ec
SUMMARY:Exámenes oficiales IB 3ero Bach
DESCRIPTION:
URL:https://martimcerere.edu.ec/event/examenes-oficiales-ib-3ero-bach/
CATEGORIES:BI y Cambridge
END:VEVENT
BEGIN:VEVENT
DTSTART;VALUE=DATE:20260501
DTEND;VALUE=DATE:20260502
DTSTAMP:20260423T135401
CREATED:20251228T213119Z
LAST-MODIFIED:20251228T213119Z
UID:2258-1777593600-1777679999@martimcerere.edu.ec
SUMMARY:Feriado Día del Trabajo
DESCRIPTION:
URL:https://martimcerere.edu.ec/event/feriado-dia-del-trabajo/
CATEGORIES:Feriado
END:VEVENT
BEGIN:VEVENT
DTSTART;VALUE=DATE:20260504
DTEND;VALUE=DATE:20260519
DTSTAMP:20260423T135401
CREATED:20251228T213220Z
LAST-MODIFIED:20251228T213220Z
UID:2260-1777852800-1779148799@martimcerere.edu.ec
SUMMARY:Exámenes oficiales IB 3ero Bach
DESCRIPTION:
URL:https://martimcerere.edu.ec/event/examenes-oficiales-ib-3ero-bach-2/
CATEGORIES:BI y Cambridge
END:VEVENT
BEGIN:VEVENT
DTSTART;VALUE=DATE:20260525
DTEND;VALUE=DATE:20260526
DTSTAMP:20260423T135401
CREATED:20251228T213326Z
LAST-MODIFIED:20251228T213326Z
UID:2262-1779667200-1779753599@martimcerere.edu.ec
SUMMARY:Talent Show
DESCRIPTION:
URL:https://martimcerere.edu.ec/event/talent-show/
CATEGORIES:Feriado
END:VEVENT
BEGIN:VEVENT
DTSTART;VALUE=DATE:20260528
DTEND;VALUE=DATE:20260530
DTSTAMP:20260423T135401
CREATED:20251228T213411Z
LAST-MODIFIED:20251228T213411Z
UID:2264-1779926400-1780099199@martimcerere.edu.ec
SUMMARY:Cierre Extracurriculares
DESCRIPTION:
URL:https://martimcerere.edu.ec/event/cierre-extracurriculares/
CATEGORIES:Inicio o fin de actividades
END:VEVENT
BEGIN:VEVENT
DTSTART;VALUE=DATE:20260601
DTEND;VALUE=DATE:20260602
DTSTAMP:20260423T135401
CREATED:20251228T213510Z
LAST-MODIFIED:20251228T213510Z
UID:2266-1780272000-1780358399@martimcerere.edu.ec
SUMMARY:Día del Niño
DESCRIPTION:
URL:https://martimcerere.edu.ec/event/dia-del-nino/
CATEGORIES:Eventos internos
END:VEVENT
BEGIN:VEVENT
DTSTART;VALUE=DATE:20260618
DTEND;VALUE=DATE:20260619
DTSTAMP:20260423T135401
CREATED:20251228T214349Z
LAST-MODIFIED:20251228T214839Z
UID:2268-1781740800-1781827199@martimcerere.edu.ec
SUMMARY:Despedida PPFF a 3ro BI
DESCRIPTION:
URL:https://martimcerere.edu.ec/event/despedida-ppff-a-3ro-bi/
CATEGORIES:Eventos + PPFF
END:VEVENT
BEGIN:VEVENT
DTSTART;VALUE=DATE:20260618
DTEND;VALUE=DATE:20260627
DTSTAMP:20260423T135401
CREATED:20251228T215021Z
LAST-MODIFIED:20251228T215021Z
UID:2272-1781740800-1782518399@martimcerere.edu.ec
SUMMARY:Exámenes 3er Trimestre
DESCRIPTION:
URL:https://martimcerere.edu.ec/event/examenes-3er-trimestre/
CATEGORIES:Evaluaciones
END:VEVENT
BEGIN:VEVENT
DTSTART;VALUE=DATE:20260619
DTEND;VALUE=DATE:20260620
DTSTAMP:20260423T135401
CREATED:20251228T214803Z
LAST-MODIFIED:20251228T214803Z
UID:2270-1781827200-1781913599@martimcerere.edu.ec
SUMMARY:Último timbre
DESCRIPTION:
URL:https://martimcerere.edu.ec/event/ultimo-timbre/
CATEGORIES:Eventos + PPFF
END:VEVENT
BEGIN:VEVENT
DTSTART;VALUE=DATE:20260622
DTEND;VALUE=DATE:20260623
DTSTAMP:20260423T135401
CREATED:20251228T215744Z
LAST-MODIFIED:20251228T215744Z
UID:2274-1782086400-1782172799@martimcerere.edu.ec
SUMMARY:Juntas 3ero BI
DESCRIPTION:
URL:https://martimcerere.edu.ec/event/juntas-3ero-bi/
CATEGORIES:Juntas / libretas
END:VEVENT
BEGIN:VEVENT
DTSTART;VALUE=DATE:20260623
DTEND;VALUE=DATE:20260624
DTSTAMP:20260423T135401
CREATED:20251228T215837Z
LAST-MODIFIED:20251228T215837Z
UID:2276-1782172800-1782259199@martimcerere.edu.ec
SUMMARY:Fin Inicial
DESCRIPTION:
URL:https://martimcerere.edu.ec/event/fin-inicial/
CATEGORIES:Inicio o fin de actividades
END:VEVENT
BEGIN:VEVENT
DTSTART;VALUE=DATE:20260624
DTEND;VALUE=DATE:20260625
DTSTAMP:20260423T135401
CREATED:20251228T215907Z
LAST-MODIFIED:20251228T215907Z
UID:2278-1782259200-1782345599@martimcerere.edu.ec
SUMMARY:Fin 1ero EGB
DESCRIPTION:
URL:https://martimcerere.edu.ec/event/fin-1ero-egb/
CATEGORIES:Inicio o fin de actividades
END:VEVENT
BEGIN:VEVENT
DTSTART;VALUE=DATE:20260626
DTEND;VALUE=DATE:20260627
DTSTAMP:20260423T135401
CREATED:20251228T220130Z
LAST-MODIFIED:20251228T220130Z
UID:2280-1782432000-1782518399@martimcerere.edu.ec
SUMMARY:Último día de clase
DESCRIPTION:
URL:https://martimcerere.edu.ec/event/ultimo-dia-de-clase/
CATEGORIES:Inicio o fin de actividades
END:VEVENT
BEGIN:VEVENT
DTSTART;VALUE=DATE:20260629
DTEND;VALUE=DATE:20260630
DTSTAMP:20260423T135401
CREATED:20251228T220219Z
LAST-MODIFIED:20251228T220219Z
UID:2282-1782691200-1782777599@martimcerere.edu.ec
SUMMARY:Juntas de curso
DESCRIPTION:
URL:https://martimcerere.edu.ec/event/juntas-de-curso-2/
CATEGORIES:Juntas / libretas
END:VEVENT
BEGIN:VEVENT
DTSTART;VALUE=DATE:20260630
DTEND;VALUE=DATE:20260701
DTSTAMP:20260423T135401
CREATED:20251228T220239Z
LAST-MODIFIED:20251228T220239Z
UID:2284-1782777600-1782863999@martimcerere.edu.ec
SUMMARY:Entrega de reportes
DESCRIPTION:
URL:https://martimcerere.edu.ec/event/entrega-de-reportes/
CATEGORIES:Inicio o fin de actividades
END:VEVENT
BEGIN:VEVENT
DTSTART;VALUE=DATE:20260701
DTEND;VALUE=DATE:20260709
DTSTAMP:20260423T135401
CREATED:20251228T220702Z
LAST-MODIFIED:20251228T220702Z
UID:2286-1782864000-1783555199@martimcerere.edu.ec
SUMMARY:Clases Supletorios
DESCRIPTION:
URL:https://martimcerere.edu.ec/event/clases-supletorios/
CATEGORIES:Supletorios
END:VEVENT
BEGIN:VEVENT
DTSTART;VALUE=DATE:20260708
DTEND;VALUE=DATE:20260709
DTSTAMP:20260423T135401
CREATED:20251228T220812Z
LAST-MODIFIED:20251228T220812Z
UID:2288-1783468800-1783555199@martimcerere.edu.ec
SUMMARY:Incorporación Promo 2026
DESCRIPTION:
URL:https://martimcerere.edu.ec/event/incorporacion-promo-2026/
CATEGORIES:Eventos + PPFF
END:VEVENT
BEGIN:VEVENT
DTSTART;VALUE=DATE:20260710
DTEND;VALUE=DATE:20260711
DTSTAMP:20260423T135401
CREATED:20251228T221335Z
LAST-MODIFIED:20251228T221335Z
UID:2290-1783641600-1783727999@martimcerere.edu.ec
SUMMARY:Asamblea General de directivos y docentes
DESCRIPTION:
URL:https://martimcerere.edu.ec/event/asamblea-general-de-directivos-y-docentes/
CATEGORIES:Eventos internos
END:VEVENT
END:VCALENDAR