BEGIN:VCALENDAR
VERSION:2.0
PRODID:-//Martim Cerere - ECPv6.15.18//NONSGML v1.0//EN
CALSCALE:GREGORIAN
METHOD:PUBLISH
X-WR-CALNAME:Martim Cerere
X-ORIGINAL-URL:https://martimcerere.edu.ec
X-WR-CALDESC:Eventos para Martim Cerere
REFRESH-INTERVAL;VALUE=DURATION:PT1H
X-Robots-Tag:noindex
X-PUBLISHED-TTL:PT1H
BEGIN:VTIMEZONE
TZID:Europe/Madrid
BEGIN:DAYLIGHT
TZOFFSETFROM:+0100
TZOFFSETTO:+0200
TZNAME:CEST
DTSTART:20240331T010000
END:DAYLIGHT
BEGIN:STANDARD
TZOFFSETFROM:+0200
TZOFFSETTO:+0100
TZNAME:CET
DTSTART:20241027T010000
END:STANDARD
BEGIN:DAYLIGHT
TZOFFSETFROM:+0100
TZOFFSETTO:+0200
TZNAME:CEST
DTSTART:20250330T010000
END:DAYLIGHT
BEGIN:STANDARD
TZOFFSETFROM:+0200
TZOFFSETTO:+0100
TZNAME:CET
DTSTART:20251026T010000
END:STANDARD
BEGIN:DAYLIGHT
TZOFFSETFROM:+0100
TZOFFSETTO:+0200
TZNAME:CEST
DTSTART:20260329T010000
END:DAYLIGHT
BEGIN:STANDARD
TZOFFSETFROM:+0200
TZOFFSETTO:+0100
TZNAME:CET
DTSTART:20261025T010000
END:STANDARD
BEGIN:DAYLIGHT
TZOFFSETFROM:+0100
TZOFFSETTO:+0200
TZNAME:CEST
DTSTART:20270328T010000
END:DAYLIGHT
BEGIN:STANDARD
TZOFFSETFROM:+0200
TZOFFSETTO:+0100
TZNAME:CET
DTSTART:20271031T010000
END:STANDARD
END:VTIMEZONE
BEGIN:VEVENT
DTSTART;TZID=Europe/Madrid:20251120T080000
DTEND;TZID=Europe/Madrid:20251127T170000
DTSTAMP:20260424T021716
CREATED:20251021T153139Z
LAST-MODIFIED:20251021T153139Z
UID:1866-1763625600-1764262800@martimcerere.edu.ec
SUMMARY:Evaluaciones 1er Trimestre
DESCRIPTION:
URL:https://martimcerere.edu.ec/event/evaluaciones-1er-trimestre/
CATEGORIES:Evaluaciones
END:VEVENT
BEGIN:VEVENT
DTSTART;VALUE=DATE:20251127
DTEND;VALUE=DATE:20251128
DTSTAMP:20260424T021716
CREATED:20251021T155305Z
LAST-MODIFIED:20251021T155305Z
UID:1893-1764201600-1764287999@martimcerere.edu.ec
SUMMARY:Fin 1er Trimestre
DESCRIPTION:
URL:https://martimcerere.edu.ec/event/fin-1er-trimestre/
CATEGORIES:Inicio o fin de actividades
END:VEVENT
BEGIN:VEVENT
DTSTART;VALUE=DATE:20251128
DTEND;VALUE=DATE:20251129
DTSTAMP:20260424T021716
CREATED:20251021T153214Z
LAST-MODIFIED:20251021T153214Z
UID:1868-1764288000-1764374399@martimcerere.edu.ec
SUMMARY:Juntas de curso
DESCRIPTION:
URL:https://martimcerere.edu.ec/event/juntas-de-curso/
CATEGORIES:Juntas / libretas
END:VEVENT
BEGIN:VEVENT
DTSTART;VALUE=DATE:20251201
DTEND;VALUE=DATE:20251202
DTSTAMP:20260424T021716
CREATED:20251021T155244Z
LAST-MODIFIED:20251021T155244Z
UID:1891-1764547200-1764633599@martimcerere.edu.ec
SUMMARY:Inicio de 2do trimestre
DESCRIPTION:
URL:https://martimcerere.edu.ec/event/inicio-de-2do-trimestre/
CATEGORIES:Inicio o fin de actividades
END:VEVENT
BEGIN:VEVENT
DTSTART;VALUE=DATE:20251204
DTEND;VALUE=DATE:20251205
DTSTAMP:20260424T021716
CREATED:20251021T153840Z
LAST-MODIFIED:20251021T153840Z
UID:1870-1764806400-1764892799@martimcerere.edu.ec
SUMMARY:Entrega de reportes trimestrales
DESCRIPTION:
URL:https://martimcerere.edu.ec/event/entrega-de-reportes-trimestrales/
CATEGORIES:Juntas / libretas
END:VEVENT
BEGIN:VEVENT
DTSTART;VALUE=DATE:20251205
DTEND;VALUE=DATE:20251206
DTSTAMP:20260424T021716
CREATED:20251021T153901Z
LAST-MODIFIED:20251021T153901Z
UID:1872-1764892800-1764979199@martimcerere.edu.ec
SUMMARY:Feriado Fundación de Quito
DESCRIPTION:
URL:https://martimcerere.edu.ec/event/feriado-fundacion-de-quito/
CATEGORIES:Feriado
END:VEVENT
BEGIN:VEVENT
DTSTART;VALUE=DATE:20251222
DTEND;VALUE=DATE:20260105
DTSTAMP:20260424T021716
CREATED:20251021T153924Z
LAST-MODIFIED:20251021T154302Z
UID:1874-1766361600-1767571199@martimcerere.edu.ec
SUMMARY:Inicio vacaciones Navidad
DESCRIPTION:
URL:https://martimcerere.edu.ec/event/programa-de-navidad/
CATEGORIES:No asistencia
END:VEVENT
BEGIN:VEVENT
DTSTART;TZID=Europe/Madrid:20260112T080000
DTEND;TZID=Europe/Madrid:20260116T170000
DTSTAMP:20260424T021716
CREATED:20251021T154540Z
LAST-MODIFIED:20251021T154540Z
UID:1877-1768204800-1768582800@martimcerere.edu.ec
SUMMARY:Simulacro exámenes de Cambridge
DESCRIPTION:
URL:https://martimcerere.edu.ec/event/simulacro-examenes-de-cambridge/
CATEGORIES:BI y Cambridge
END:VEVENT
BEGIN:VEVENT
DTSTART;VALUE=DATE:20260216
DTEND;VALUE=DATE:20260218
DTSTAMP:20260424T021716
CREATED:20251228T210324Z
LAST-MODIFIED:20251228T210426Z
UID:2225-1771200000-1771372799@martimcerere.edu.ec
SUMMARY:Feriado de Carnaval
DESCRIPTION:
URL:https://martimcerere.edu.ec/event/feriado-de-carnaval/
CATEGORIES:Feriado
END:VEVENT
BEGIN:VEVENT
DTSTART;VALUE=DATE:20260228
DTEND;VALUE=DATE:20260301
DTSTAMP:20260424T021716
CREATED:20251228T210549Z
LAST-MODIFIED:20251228T210549Z
UID:2227-1772236800-1772323199@martimcerere.edu.ec
SUMMARY:Casa Abierta Adm.2026
DESCRIPTION:
URL:https://martimcerere.edu.ec/event/casa-abierta-adm-2026/
CATEGORIES:Eventos internos
END:VEVENT
BEGIN:VEVENT
DTSTART;VALUE=DATE:20260306
DTEND;VALUE=DATE:20260307
DTSTAMP:20260424T021716
CREATED:20251228T210938Z
LAST-MODIFIED:20251228T211017Z
UID:2229-1772755200-1772841599@martimcerere.edu.ec
SUMMARY:Cierre Inscripciones Cambridge
DESCRIPTION:
URL:https://martimcerere.edu.ec/event/cierre-inscripciones-cambridge/
CATEGORIES:BI y Cambridge
END:VEVENT
BEGIN:VEVENT
DTSTART;VALUE=DATE:20260306
DTEND;VALUE=DATE:20260307
DTSTAMP:20260424T021716
CREATED:20251228T211134Z
LAST-MODIFIED:20251228T211134Z
UID:2231-1772755200-1772841599@martimcerere.edu.ec
SUMMARY:Concurso de Coreografías
DESCRIPTION:
URL:https://martimcerere.edu.ec/event/concurso-de-coreografias/
CATEGORIES:Eventos + PPFF
END:VEVENT
BEGIN:VEVENT
DTSTART;VALUE=DATE:20260312
DTEND;VALUE=DATE:20260320
DTSTAMP:20260424T021716
CREATED:20251228T211250Z
LAST-MODIFIED:20251228T211859Z
UID:2233-1773273600-1773964799@martimcerere.edu.ec
SUMMARY:Evaluaciones 2do Trimestre
DESCRIPTION:
URL:https://martimcerere.edu.ec/event/evaluaciones-2do-trimestre/
CATEGORIES:Evaluaciones
END:VEVENT
BEGIN:VEVENT
DTSTART;VALUE=DATE:20260319
DTEND;VALUE=DATE:20260320
DTSTAMP:20260424T021716
CREATED:20251228T211329Z
LAST-MODIFIED:20251228T211329Z
UID:2235-1773878400-1773964799@martimcerere.edu.ec
SUMMARY:Fin 2do Trimestre
DESCRIPTION:
URL:https://martimcerere.edu.ec/event/fin-2do-trimestre/
CATEGORIES:Inicio o fin de actividades
END:VEVENT
BEGIN:VEVENT
DTSTART;VALUE=DATE:20260320
DTEND;VALUE=DATE:20260321
DTSTAMP:20260424T021716
CREATED:20251228T211450Z
LAST-MODIFIED:20251228T211450Z
UID:2237-1773964800-1774051199@martimcerere.edu.ec
SUMMARY:Juntas de curso (no asisten estudiantes / Entrega reportes a PPFF Preescolar)
DESCRIPTION:
URL:https://martimcerere.edu.ec/event/juntas-de-curso-no-asisten-estudiantes-entrega-reportes-a-ppff-preescolar/
CATEGORIES:Juntas / libretas,No asistencia
END:VEVENT
BEGIN:VEVENT
DTSTART;VALUE=DATE:20260321
DTEND;VALUE=DATE:20260322
DTSTAMP:20260424T021716
CREATED:20251228T211834Z
LAST-MODIFIED:20251228T211834Z
UID:2239-1774051200-1774137599@martimcerere.edu.ec
SUMMARY:Día del Martím
DESCRIPTION:
URL:https://martimcerere.edu.ec/event/dia-del-martim/
CATEGORIES:Eventos + PPFF
END:VEVENT
BEGIN:VEVENT
DTSTART;VALUE=DATE:20260323
DTEND;VALUE=DATE:20260324
DTSTAMP:20260424T021716
CREATED:20251228T211923Z
LAST-MODIFIED:20251228T211923Z
UID:2242-1774224000-1774310399@martimcerere.edu.ec
SUMMARY:Entrega de reportes trimestrales
DESCRIPTION:
URL:https://martimcerere.edu.ec/event/entrega-de-reportes-trimestrales-2/
CATEGORIES:Juntas / libretas,No asistencia
END:VEVENT
BEGIN:VEVENT
DTSTART;VALUE=DATE:20260324
DTEND;VALUE=DATE:20260325
DTSTAMP:20260424T021716
CREATED:20251228T211956Z
LAST-MODIFIED:20251228T211956Z
UID:2244-1774310400-1774396799@martimcerere.edu.ec
SUMMARY:Inicio del 3er Trimestre
DESCRIPTION:
URL:https://martimcerere.edu.ec/event/inicio-del-3er-trimestre/
CATEGORIES:Inicio o fin de actividades
END:VEVENT
BEGIN:VEVENT
DTSTART;VALUE=DATE:20260401
DTEND;VALUE=DATE:20260403
DTSTAMP:20260424T021716
CREATED:20251228T212154Z
LAST-MODIFIED:20251228T212154Z
UID:2246-1775001600-1775174399@martimcerere.edu.ec
SUMMARY:Vacaciones Docentes y Estudiantes
DESCRIPTION:
URL:https://martimcerere.edu.ec/event/vacaciones-docentes-y-estudiantes/
CATEGORIES:No asistencia
END:VEVENT
BEGIN:VEVENT
DTSTART;VALUE=DATE:20260403
DTEND;VALUE=DATE:20260404
DTSTAMP:20260424T021716
CREATED:20251228T212233Z
LAST-MODIFIED:20251228T212233Z
UID:2248-1775174400-1775260799@martimcerere.edu.ec
SUMMARY:Feriado Semana Santa
DESCRIPTION:
URL:https://martimcerere.edu.ec/event/feriado-semana-santa/
CATEGORIES:Feriado
END:VEVENT
BEGIN:VEVENT
DTSTART;VALUE=DATE:20260406
DTEND;VALUE=DATE:20260410
DTSTAMP:20260424T021716
CREATED:20251228T212315Z
LAST-MODIFIED:20251228T212315Z
UID:2250-1775433600-1775779199@martimcerere.edu.ec
SUMMARY:Exámenes Cambridge
DESCRIPTION:
URL:https://martimcerere.edu.ec/event/examenes-cambridge/
CATEGORIES:BI y Cambridge
END:VEVENT
BEGIN:VEVENT
DTSTART;VALUE=DATE:20260413
DTEND;VALUE=DATE:20260414
DTSTAMP:20260424T021716
CREATED:20251228T212426Z
LAST-MODIFIED:20251228T212431Z
UID:2252-1776038400-1776124799@martimcerere.edu.ec
SUMMARY:Día del Maestro
DESCRIPTION:
URL:https://martimcerere.edu.ec/event/dia-del-maestro/
CATEGORIES:Eventos internos
END:VEVENT
BEGIN:VEVENT
DTSTART;VALUE=DATE:20260414
DTEND;VALUE=DATE:20260418
DTSTAMP:20260424T021716
CREATED:20251228T212517Z
LAST-MODIFIED:20251228T212517Z
UID:2254-1776124800-1776470399@martimcerere.edu.ec
SUMMARY:Mock exams IB 3ero Bach
DESCRIPTION:
URL:https://martimcerere.edu.ec/event/mock-exams-ib-3ero-bach/
CATEGORIES:BI y Cambridge
END:VEVENT
BEGIN:VEVENT
DTSTART;VALUE=DATE:20260428
DTEND;VALUE=DATE:20260501
DTSTAMP:20260424T021716
CREATED:20251228T212604Z
LAST-MODIFIED:20251228T212604Z
UID:2256-1777334400-1777593599@martimcerere.edu.ec
SUMMARY:Exámenes oficiales IB 3ero Bach
DESCRIPTION:
URL:https://martimcerere.edu.ec/event/examenes-oficiales-ib-3ero-bach/
CATEGORIES:BI y Cambridge
END:VEVENT
BEGIN:VEVENT
DTSTART;VALUE=DATE:20260501
DTEND;VALUE=DATE:20260502
DTSTAMP:20260424T021716
CREATED:20251228T213119Z
LAST-MODIFIED:20251228T213119Z
UID:2258-1777593600-1777679999@martimcerere.edu.ec
SUMMARY:Feriado Día del Trabajo
DESCRIPTION:
URL:https://martimcerere.edu.ec/event/feriado-dia-del-trabajo/
CATEGORIES:Feriado
END:VEVENT
BEGIN:VEVENT
DTSTART;VALUE=DATE:20260504
DTEND;VALUE=DATE:20260519
DTSTAMP:20260424T021716
CREATED:20251228T213220Z
LAST-MODIFIED:20251228T213220Z
UID:2260-1777852800-1779148799@martimcerere.edu.ec
SUMMARY:Exámenes oficiales IB 3ero Bach
DESCRIPTION:
URL:https://martimcerere.edu.ec/event/examenes-oficiales-ib-3ero-bach-2/
CATEGORIES:BI y Cambridge
END:VEVENT
BEGIN:VEVENT
DTSTART;VALUE=DATE:20260525
DTEND;VALUE=DATE:20260526
DTSTAMP:20260424T021716
CREATED:20251228T213326Z
LAST-MODIFIED:20251228T213326Z
UID:2262-1779667200-1779753599@martimcerere.edu.ec
SUMMARY:Talent Show
DESCRIPTION:
URL:https://martimcerere.edu.ec/event/talent-show/
CATEGORIES:Feriado
END:VEVENT
BEGIN:VEVENT
DTSTART;VALUE=DATE:20260528
DTEND;VALUE=DATE:20260530
DTSTAMP:20260424T021716
CREATED:20251228T213411Z
LAST-MODIFIED:20251228T213411Z
UID:2264-1779926400-1780099199@martimcerere.edu.ec
SUMMARY:Cierre Extracurriculares
DESCRIPTION:
URL:https://martimcerere.edu.ec/event/cierre-extracurriculares/
CATEGORIES:Inicio o fin de actividades
END:VEVENT
BEGIN:VEVENT
DTSTART;VALUE=DATE:20260601
DTEND;VALUE=DATE:20260602
DTSTAMP:20260424T021716
CREATED:20251228T213510Z
LAST-MODIFIED:20251228T213510Z
UID:2266-1780272000-1780358399@martimcerere.edu.ec
SUMMARY:Día del Niño
DESCRIPTION:
URL:https://martimcerere.edu.ec/event/dia-del-nino/
CATEGORIES:Eventos internos
END:VEVENT
BEGIN:VEVENT
DTSTART;VALUE=DATE:20260618
DTEND;VALUE=DATE:20260619
DTSTAMP:20260424T021716
CREATED:20251228T214349Z
LAST-MODIFIED:20251228T214839Z
UID:2268-1781740800-1781827199@martimcerere.edu.ec
SUMMARY:Despedida PPFF a 3ro BI
DESCRIPTION:
URL:https://martimcerere.edu.ec/event/despedida-ppff-a-3ro-bi/
CATEGORIES:Eventos + PPFF
END:VEVENT
END:VCALENDAR